BEGIN:VCALENDAR
VERSION:2.0
PRODID:-//The Factory - ECPv6.15.20//NONSGML v1.0//EN
CALSCALE:GREGORIAN
METHOD:PUBLISH
X-ORIGINAL-URL:https://thefactoryartsproject.org
X-WR-CALDESC:Events for The Factory
REFRESH-INTERVAL;VALUE=DURATION:PT1H
X-Robots-Tag:noindex
X-PUBLISHED-TTL:PT1H
BEGIN:VTIMEZONE
TZID:America/New_York
BEGIN:DAYLIGHT
TZOFFSETFROM:-0500
TZOFFSETTO:-0400
TZNAME:EDT
DTSTART:20240310T070000
END:DAYLIGHT
BEGIN:STANDARD
TZOFFSETFROM:-0400
TZOFFSETTO:-0500
TZNAME:EST
DTSTART:20241103T060000
END:STANDARD
BEGIN:DAYLIGHT
TZOFFSETFROM:-0500
TZOFFSETTO:-0400
TZNAME:EDT
DTSTART:20250309T070000
END:DAYLIGHT
BEGIN:STANDARD
TZOFFSETFROM:-0400
TZOFFSETTO:-0500
TZNAME:EST
DTSTART:20251102T060000
END:STANDARD
BEGIN:DAYLIGHT
TZOFFSETFROM:-0500
TZOFFSETTO:-0400
TZNAME:EDT
DTSTART:20260308T070000
END:DAYLIGHT
BEGIN:STANDARD
TZOFFSETFROM:-0400
TZOFFSETTO:-0500
TZNAME:EST
DTSTART:20261101T060000
END:STANDARD
END:VTIMEZONE
BEGIN:VEVENT
DTSTART;TZID=America/New_York:20250108T180000
DTEND;TZID=America/New_York:20250108T193000
DTSTAMP:20260421T082020
CREATED:20250102T201937Z
LAST-MODIFIED:20250102T202040Z
UID:1657-1736359200-1736364600@thefactoryartsproject.org
SUMMARY:Auditions! | Never the Sinner
DESCRIPTION:The Factory invites actors of all experience levels to audition for Never the Sinner. \nCasting male and male presenting actors of all races and ages.\nAges apply to specific roles but are not going to affect inclusion of casting. \nCome prepared to move around and read sides from the script.\nAll actors should be comfortable moving lightweight furniture. \nAudition Dates\nWednesday\, January 8 | 6 pm\nThursday\, January 9 | 6 pm \nAudition Location\nThe Waterfowl Building\n40 S Harrison St\nEaston\, MD 21601 \nDirected by E.T. Wilford of The Factory Arts Project\, the production will run for four performances from March 13-16\, 2025\, at The Waterfowl Building.
URL:https://thefactoryartsproject.org/event/auditions-never-the-sinner-jan8/
LOCATION:The Waterfowl Building\, 40 S Harrison St\, Easton\, 21601\, United States
CATEGORIES:Auditions
ATTACH;FMTTYPE=image/png:https://thefactoryartsproject.org/wp-content/uploads/2025/01/NevertheSinnerFlyer.png
ORGANIZER;CN="The Factory Arts Project":MAILTO:hello@thefactoryartsproject.org
END:VEVENT
BEGIN:VEVENT
DTSTART;TZID=America/New_York:20250109T180000
DTEND;TZID=America/New_York:20250109T193000
DTSTAMP:20260421T082020
CREATED:20250102T202016Z
LAST-MODIFIED:20250102T202033Z
UID:1661-1736445600-1736451000@thefactoryartsproject.org
SUMMARY:Auditions! | Never the Sinner
DESCRIPTION:The Factory invites actors of all experience levels to audition for Never the Sinner. \nCasting male and male presenting actors of all races and ages.\nAges apply to specific roles but are not going to affect inclusion of casting. \nCome prepared to move around and read sides from the script.\nAll actors should be comfortable moving lightweight furniture. \nAudition Dates\nWednesday\, January 8 | 6 pm\nThursday\, January 9 | 6 pm \nAudition Location\nThe Waterfowl Building\n40 S Harrison St\nEaston\, MD 21601 \nDirected by E.T. Wilford of The Factory Arts Project\, the production will run for four performances from March 13-16\, 2025\, at The Waterfowl Building.
URL:https://thefactoryartsproject.org/event/auditions-never-the-sinner-jan9/
LOCATION:The Waterfowl Building\, 40 S Harrison St\, Easton\, 21601\, United States
CATEGORIES:Auditions
ATTACH;FMTTYPE=image/png:https://thefactoryartsproject.org/wp-content/uploads/2025/01/NevertheSinnerFlyer.png
ORGANIZER;CN="The Factory Arts Project":MAILTO:hello@thefactoryartsproject.org
END:VEVENT
BEGIN:VEVENT
DTSTART;TZID=America/New_York:20250114T183000
DTEND;TZID=America/New_York:20250114T200000
DTSTAMP:20260421T082020
CREATED:20250102T201224Z
LAST-MODIFIED:20250102T201953Z
UID:1655-1736879400-1736884800@thefactoryartsproject.org
SUMMARY:Auditions! | The Man From Earth
DESCRIPTION:Tred Avon Players (TAP) invites actors of all experience levels to audition for The Man From Earth\, a thought-provoking drama adapted for the stage by Richard Schenkman from the book and screenplay by acclaimed science fiction writer\, Jerome Bixby. \nAudition Dates\nTuesday\, January 14 | 6:30 pm\nWednesday\, January 15 | 6:30 pm \nAudition Location\nThe Avalon Theatre\n40 E Dover St\nEaston\, MD 21601 \nDirected by Cecile Storm of The Factory Arts Project\, the production will run for seven performances from April 17–27\, 2025\, at the Oxford Community Center.
URL:https://thefactoryartsproject.org/event/auditions-the-man-from-earth-jan14/
LOCATION:Avalon Theatre\, 40 E Dover St\, Easton\, MD\, 21601\, United States
CATEGORIES:Auditions
ATTACH;FMTTYPE=image/avif:https://thefactoryartsproject.org/wp-content/uploads/2025/01/TAP-2025_Web_Schedule_TheManFromEarth.avif
ORGANIZER;CN="Tred Avon Players":MAILTO:info@tredavonplayers.org
END:VEVENT
BEGIN:VEVENT
DTSTART;TZID=America/New_York:20250115T183000
DTEND;TZID=America/New_York:20250115T200000
DTSTAMP:20260421T082020
CREATED:20250102T201150Z
LAST-MODIFIED:20250102T201957Z
UID:1653-1736965800-1736971200@thefactoryartsproject.org
SUMMARY:Auditions! | The Man From Earth
DESCRIPTION:Tred Avon Players (TAP) invites actors of all experience levels to audition for The Man From Earth\, a thought-provoking drama adapted for the stage by Richard Schenkman from the book and screenplay by acclaimed science fiction writer\, Jerome Bixby. \nAudition Dates\nTuesday\, January 14 | 6:30 pm\nWednesday\, January 15 | 6:30 pm \nAudition Location\nThe Avalon Theatre\n40 E Dover St\nEaston\, MD 21601 \nDirected by Cecile Storm of The Factory Arts Project\, the production will run for seven performances from April 17–27\, 2025\, at the Oxford Community Center.
URL:https://thefactoryartsproject.org/event/auditions-the-man-from-earth-jan15/
LOCATION:Avalon Theatre\, 40 E Dover St\, Easton\, MD\, 21601\, United States
CATEGORIES:Auditions
ATTACH;FMTTYPE=image/avif:https://thefactoryartsproject.org/wp-content/uploads/2025/01/TAP-2025_Web_Schedule_TheManFromEarth.avif
ORGANIZER;CN="Tred Avon Players":MAILTO:info@tredavonplayers.org
END:VEVENT
END:VCALENDAR