BEGIN:VCALENDAR
VERSION:2.0
PRODID:-//The Factory - ECPv6.15.20//NONSGML v1.0//EN
CALSCALE:GREGORIAN
METHOD:PUBLISH
X-WR-CALNAME:The Factory
X-ORIGINAL-URL:https://thefactoryartsproject.org
X-WR-CALDESC:Events for The Factory
REFRESH-INTERVAL;VALUE=DURATION:PT1H
X-Robots-Tag:noindex
X-PUBLISHED-TTL:PT1H
BEGIN:VTIMEZONE
TZID:America/New_York
BEGIN:DAYLIGHT
TZOFFSETFROM:-0500
TZOFFSETTO:-0400
TZNAME:EDT
DTSTART:20230312T070000
END:DAYLIGHT
BEGIN:STANDARD
TZOFFSETFROM:-0400
TZOFFSETTO:-0500
TZNAME:EST
DTSTART:20231105T060000
END:STANDARD
BEGIN:DAYLIGHT
TZOFFSETFROM:-0500
TZOFFSETTO:-0400
TZNAME:EDT
DTSTART:20240310T070000
END:DAYLIGHT
BEGIN:STANDARD
TZOFFSETFROM:-0400
TZOFFSETTO:-0500
TZNAME:EST
DTSTART:20241103T060000
END:STANDARD
BEGIN:DAYLIGHT
TZOFFSETFROM:-0500
TZOFFSETTO:-0400
TZNAME:EDT
DTSTART:20250309T070000
END:DAYLIGHT
BEGIN:STANDARD
TZOFFSETFROM:-0400
TZOFFSETTO:-0500
TZNAME:EST
DTSTART:20251102T060000
END:STANDARD
BEGIN:DAYLIGHT
TZOFFSETFROM:-0500
TZOFFSETTO:-0400
TZNAME:EDT
DTSTART:20260308T070000
END:DAYLIGHT
BEGIN:STANDARD
TZOFFSETFROM:-0400
TZOFFSETTO:-0500
TZNAME:EST
DTSTART:20261101T060000
END:STANDARD
END:VTIMEZONE
BEGIN:VEVENT
DTSTART;TZID=America/New_York:20250108T180000
DTEND;TZID=America/New_York:20250108T193000
DTSTAMP:20260421T141933
CREATED:20250102T201937Z
LAST-MODIFIED:20250102T202040Z
UID:1657-1736359200-1736364600@thefactoryartsproject.org
SUMMARY:Auditions! | Never the Sinner
DESCRIPTION:The Factory invites actors of all experience levels to audition for Never the Sinner. \nCasting male and male presenting actors of all races and ages.\nAges apply to specific roles but are not going to affect inclusion of casting. \nCome prepared to move around and read sides from the script.\nAll actors should be comfortable moving lightweight furniture. \nAudition Dates\nWednesday\, January 8 | 6 pm\nThursday\, January 9 | 6 pm \nAudition Location\nThe Waterfowl Building\n40 S Harrison St\nEaston\, MD 21601 \nDirected by E.T. Wilford of The Factory Arts Project\, the production will run for four performances from March 13-16\, 2025\, at The Waterfowl Building.
URL:https://thefactoryartsproject.org/event/auditions-never-the-sinner-jan8/
LOCATION:The Waterfowl Building\, 40 S Harrison St\, Easton\, 21601\, United States
CATEGORIES:Auditions
ATTACH;FMTTYPE=image/png:https://thefactoryartsproject.org/wp-content/uploads/2025/01/NevertheSinnerFlyer.png
ORGANIZER;CN="The Factory Arts Project":MAILTO:hello@thefactoryartsproject.org
END:VEVENT
BEGIN:VEVENT
DTSTART;TZID=America/New_York:20241027T213000
DTEND;TZID=America/New_York:20241027T230000
DTSTAMP:20260421T141933
CREATED:20241001T000220Z
LAST-MODIFIED:20241001T000220Z
UID:1450-1730064600-1730070000@thefactoryartsproject.org
SUMMARY:Stage Fright: Curtain Call | Oct 27 Late Show
DESCRIPTION:This Halloween step into the dark\, twisted world of Stage Fright\, where the lines between reality and delusion blur in an unforgettable\, immersive theater experience. Set in 1997\, 95-year-old Lou Baker\, a man tormented by a violent past and haunted by spectral figures\, faces release from a psychiatric institution after more than thirty years. \nPrepare to be captivated by this macabre and unsettling tale of unresolved mysteries\, dark humor\, and the chilling confrontation between past and present. Stage Fright: Curtain Call is not just a play—it’s an experience that will leave you questioning the boundaries of sanity and the haunting echoes of a life gone terribly wrong.
URL:https://thefactoryartsproject.org/event/stage-fright-curtain-call-oct-27-late-show/
LOCATION:Avalon Theatre\, 40 E Dover St\, Easton\, MD\, 21601\, United States
CATEGORIES:Productions
ATTACH;FMTTYPE=image/png:https://thefactoryartsproject.org/wp-content/uploads/2024/06/SF3Poster-CaseyKatie-Cropped-500px.png
ORGANIZER;CN="The Factory Arts Project":MAILTO:hello@thefactoryartsproject.org
END:VEVENT
BEGIN:VEVENT
DTSTART;TZID=America/New_York:20241027T183000
DTEND;TZID=America/New_York:20241027T200000
DTSTAMP:20260421T141933
CREATED:20241001T000130Z
LAST-MODIFIED:20241001T000130Z
UID:1448-1730053800-1730059200@thefactoryartsproject.org
SUMMARY:Stage Fright: Curtain Call | Oct 27 Early Show
DESCRIPTION:This Halloween step into the dark\, twisted world of Stage Fright\, where the lines between reality and delusion blur in an unforgettable\, immersive theater experience. Set in 1997\, 95-year-old Lou Baker\, a man tormented by a violent past and haunted by spectral figures\, faces release from a psychiatric institution after more than thirty years. \nPrepare to be captivated by this macabre and unsettling tale of unresolved mysteries\, dark humor\, and the chilling confrontation between past and present. Stage Fright: Curtain Call is not just a play—it’s an experience that will leave you questioning the boundaries of sanity and the haunting echoes of a life gone terribly wrong.
URL:https://thefactoryartsproject.org/event/stage-fright-curtain-call-oct-27-early-show/
LOCATION:Avalon Theatre\, 40 E Dover St\, Easton\, MD\, 21601\, United States
CATEGORIES:Productions
ATTACH;FMTTYPE=image/png:https://thefactoryartsproject.org/wp-content/uploads/2024/06/SF3Poster-CaseyKatie-Cropped-500px.png
ORGANIZER;CN="The Factory Arts Project":MAILTO:hello@thefactoryartsproject.org
END:VEVENT
BEGIN:VEVENT
DTSTART;TZID=America/New_York:20241026T213000
DTEND;TZID=America/New_York:20241026T230000
DTSTAMP:20260421T141933
CREATED:20241001T000037Z
LAST-MODIFIED:20241001T000037Z
UID:1446-1729978200-1729983600@thefactoryartsproject.org
SUMMARY:Stage Fright: Curtain Call | Oct 26 Late Show
DESCRIPTION:This Halloween step into the dark\, twisted world of Stage Fright\, where the lines between reality and delusion blur in an unforgettable\, immersive theater experience. Set in 1997\, 95-year-old Lou Baker\, a man tormented by a violent past and haunted by spectral figures\, faces release from a psychiatric institution after more than thirty years. \nPrepare to be captivated by this macabre and unsettling tale of unresolved mysteries\, dark humor\, and the chilling confrontation between past and present. Stage Fright: Curtain Call is not just a play—it’s an experience that will leave you questioning the boundaries of sanity and the haunting echoes of a life gone terribly wrong.
URL:https://thefactoryartsproject.org/event/stage-fright-curtain-call-oct-26-late-show/
LOCATION:Avalon Theatre\, 40 E Dover St\, Easton\, MD\, 21601\, United States
CATEGORIES:Productions
ATTACH;FMTTYPE=image/png:https://thefactoryartsproject.org/wp-content/uploads/2024/06/SF3Poster-CaseyKatie-Cropped-500px.png
ORGANIZER;CN="The Factory Arts Project":MAILTO:hello@thefactoryartsproject.org
END:VEVENT
BEGIN:VEVENT
DTSTART;TZID=America/New_York:20241026T183000
DTEND;TZID=America/New_York:20241026T200000
DTSTAMP:20260421T141933
CREATED:20240930T235942Z
LAST-MODIFIED:20240930T235942Z
UID:1444-1729967400-1729972800@thefactoryartsproject.org
SUMMARY:Stage Fright: Curtain Call | Oct 26 Early Show
DESCRIPTION:This Halloween step into the dark\, twisted world of Stage Fright\, where the lines between reality and delusion blur in an unforgettable\, immersive theater experience. Set in 1997\, 95-year-old Lou Baker\, a man tormented by a violent past and haunted by spectral figures\, faces release from a psychiatric institution after more than thirty years. \nPrepare to be captivated by this macabre and unsettling tale of unresolved mysteries\, dark humor\, and the chilling confrontation between past and present. Stage Fright: Curtain Call is not just a play—it’s an experience that will leave you questioning the boundaries of sanity and the haunting echoes of a life gone terribly wrong.
URL:https://thefactoryartsproject.org/event/stage-fright-curtain-call-oct-26-early-show/
LOCATION:Avalon Theatre\, 40 E Dover St\, Easton\, MD\, 21601\, United States
CATEGORIES:Productions
ATTACH;FMTTYPE=image/png:https://thefactoryartsproject.org/wp-content/uploads/2024/06/SF3Poster-CaseyKatie-Cropped-500px.png
ORGANIZER;CN="The Factory Arts Project":MAILTO:hello@thefactoryartsproject.org
END:VEVENT
BEGIN:VEVENT
DTSTART;TZID=America/New_York:20241025T213000
DTEND;TZID=America/New_York:20241025T230000
DTSTAMP:20260421T141933
CREATED:20240930T235730Z
LAST-MODIFIED:20240930T235730Z
UID:1440-1729891800-1729897200@thefactoryartsproject.org
SUMMARY:Stage Fright: Curtain Call | Oct 25 Late Show
DESCRIPTION:This Halloween step into the dark\, twisted world of Stage Fright\, where the lines between reality and delusion blur in an unforgettable\, immersive theater experience. Set in 1997\, 95-year-old Lou Baker\, a man tormented by a violent past and haunted by spectral figures\, faces release from a psychiatric institution after more than thirty years. \nPrepare to be captivated by this macabre and unsettling tale of unresolved mysteries\, dark humor\, and the chilling confrontation between past and present. Stage Fright: Curtain Call is not just a play—it’s an experience that will leave you questioning the boundaries of sanity and the haunting echoes of a life gone terribly wrong.
URL:https://thefactoryartsproject.org/event/stage-fright-curtain-call-oct-25-late-show/
LOCATION:Avalon Theatre\, 40 E Dover St\, Easton\, MD\, 21601\, United States
CATEGORIES:Productions
ATTACH;FMTTYPE=image/png:https://thefactoryartsproject.org/wp-content/uploads/2024/06/SF3Poster-CaseyKatie-Cropped-500px.png
ORGANIZER;CN="The Factory Arts Project":MAILTO:hello@thefactoryartsproject.org
END:VEVENT
BEGIN:VEVENT
DTSTART;TZID=America/New_York:20241024T213000
DTEND;TZID=America/New_York:20241024T230000
DTSTAMP:20260421T141933
CREATED:20240930T235540Z
LAST-MODIFIED:20240930T235540Z
UID:1438-1729805400-1729810800@thefactoryartsproject.org
SUMMARY:Stage Fright: Curtain Call | Oct 24 Late Show
DESCRIPTION:This Halloween step into the dark\, twisted world of Stage Fright\, where the lines between reality and delusion blur in an unforgettable\, immersive theater experience. Set in 1997\, 95-year-old Lou Baker\, a man tormented by a violent past and haunted by spectral figures\, faces release from a psychiatric institution after more than thirty years. \nPrepare to be captivated by this macabre and unsettling tale of unresolved mysteries\, dark humor\, and the chilling confrontation between past and present. Stage Fright: Curtain Call is not just a play—it’s an experience that will leave you questioning the boundaries of sanity and the haunting echoes of a life gone terribly wrong.
URL:https://thefactoryartsproject.org/event/stage-fright-curtain-call-oct-24-late-show/
LOCATION:Avalon Theatre\, 40 E Dover St\, Easton\, MD\, 21601\, United States
CATEGORIES:Productions
ATTACH;FMTTYPE=image/png:https://thefactoryartsproject.org/wp-content/uploads/2024/06/SF3Poster-CaseyKatie-Cropped-500px.png
ORGANIZER;CN="The Factory Arts Project":MAILTO:hello@thefactoryartsproject.org
END:VEVENT
BEGIN:VEVENT
DTSTART;TZID=America/New_York:20241024T183000
DTEND;TZID=America/New_York:20241024T200000
DTSTAMP:20260421T141933
CREATED:20240930T235826Z
LAST-MODIFIED:20240930T235826Z
UID:1442-1729794600-1729800000@thefactoryartsproject.org
SUMMARY:Stage Fright: Curtain Call | Oct 25 Early Show
DESCRIPTION:This Halloween step into the dark\, twisted world of Stage Fright\, where the lines between reality and delusion blur in an unforgettable\, immersive theater experience. Set in 1997\, 95-year-old Lou Baker\, a man tormented by a violent past and haunted by spectral figures\, faces release from a psychiatric institution after more than thirty years. \nPrepare to be captivated by this macabre and unsettling tale of unresolved mysteries\, dark humor\, and the chilling confrontation between past and present. Stage Fright: Curtain Call is not just a play—it’s an experience that will leave you questioning the boundaries of sanity and the haunting echoes of a life gone terribly wrong.
URL:https://thefactoryartsproject.org/event/stage-fright-curtain-call-oct-25-early-show/
LOCATION:Avalon Theatre\, 40 E Dover St\, Easton\, MD\, 21601\, United States
CATEGORIES:Productions
ATTACH;FMTTYPE=image/png:https://thefactoryartsproject.org/wp-content/uploads/2024/06/SF3Poster-CaseyKatie-Cropped-500px.png
ORGANIZER;CN="The Factory Arts Project":MAILTO:hello@thefactoryartsproject.org
END:VEVENT
BEGIN:VEVENT
DTSTART;TZID=America/New_York:20241024T183000
DTEND;TZID=America/New_York:20241024T200000
DTSTAMP:20260421T141933
CREATED:20240930T235402Z
LAST-MODIFIED:20240930T235402Z
UID:1435-1729794600-1729800000@thefactoryartsproject.org
SUMMARY:Stage Fright: Curtain Call | Oct 24 Early Show
DESCRIPTION:This Halloween step into the dark\, twisted world of Stage Fright\, where the lines between reality and delusion blur in an unforgettable\, immersive theater experience. Set in 1997\, 95-year-old Lou Baker\, a man tormented by a violent past and haunted by spectral figures\, faces release from a psychiatric institution after more than thirty years. \nPrepare to be captivated by this macabre and unsettling tale of unresolved mysteries\, dark humor\, and the chilling confrontation between past and present. Stage Fright: Curtain Call is not just a play—it’s an experience that will leave you questioning the boundaries of sanity and the haunting echoes of a life gone terribly wrong.
URL:https://thefactoryartsproject.org/event/stage-fright-curtain-call-oct-24-early-show/
LOCATION:Avalon Theatre\, 40 E Dover St\, Easton\, MD\, 21601\, United States
CATEGORIES:Productions
ATTACH;FMTTYPE=image/png:https://thefactoryartsproject.org/wp-content/uploads/2024/06/SF3Poster-CaseyKatie-Cropped-500px.png
ORGANIZER;CN="The Factory Arts Project":MAILTO:hello@thefactoryartsproject.org
END:VEVENT
BEGIN:VEVENT
DTSTART;TZID=America/New_York:20241023T183000
DTEND;TZID=America/New_York:20241023T200000
DTSTAMP:20260421T141933
CREATED:20240603T150100Z
LAST-MODIFIED:20240930T235235Z
UID:998-1729708200-1729713600@thefactoryartsproject.org
SUMMARY:Stage Fright: Curtain Call | Preview Show
DESCRIPTION:This Halloween step into the dark\, twisted world of Stage Fright\, where the lines between reality and delusion blur in an unforgettable\, immersive theater experience. Set in 1997\, 95-year-old Lou Baker\, a man tormented by a violent past and haunted by spectral figures\, faces release from a psychiatric institution after more than thirty years. \nPrepare to be captivated by this macabre and unsettling tale of unresolved mysteries\, dark humor\, and the chilling confrontation between past and present. Stage Fright: Curtain Call is not just a play—it’s an experience that will leave you questioning the boundaries of sanity and the haunting echoes of a life gone terribly wrong.
URL:https://thefactoryartsproject.org/event/stage-fright-curtain-call-preview-show/
LOCATION:Avalon Theatre\, 40 E Dover St\, Easton\, MD\, 21601\, United States
CATEGORIES:Productions
ATTACH;FMTTYPE=image/png:https://thefactoryartsproject.org/wp-content/uploads/2024/06/SF3Poster-CaseyKatie-Cropped-500px.png
ORGANIZER;CN="The Factory Arts Project":MAILTO:hello@thefactoryartsproject.org
END:VEVENT
END:VCALENDAR