BEGIN:VCALENDAR
VERSION:2.0
PRODID:-//The Factory - ECPv6.15.20//NONSGML v1.0//EN
CALSCALE:GREGORIAN
METHOD:PUBLISH
X-WR-CALNAME:The Factory
X-ORIGINAL-URL:https://thefactoryartsproject.org
X-WR-CALDESC:Events for The Factory
REFRESH-INTERVAL;VALUE=DURATION:PT1H
X-Robots-Tag:noindex
X-PUBLISHED-TTL:PT1H
BEGIN:VTIMEZONE
TZID:America/New_York
BEGIN:DAYLIGHT
TZOFFSETFROM:-0500
TZOFFSETTO:-0400
TZNAME:EDT
DTSTART:20250309T070000
END:DAYLIGHT
BEGIN:STANDARD
TZOFFSETFROM:-0400
TZOFFSETTO:-0500
TZNAME:EST
DTSTART:20251102T060000
END:STANDARD
BEGIN:DAYLIGHT
TZOFFSETFROM:-0500
TZOFFSETTO:-0400
TZNAME:EDT
DTSTART:20260308T070000
END:DAYLIGHT
BEGIN:STANDARD
TZOFFSETFROM:-0400
TZOFFSETTO:-0500
TZNAME:EST
DTSTART:20261101T060000
END:STANDARD
BEGIN:DAYLIGHT
TZOFFSETFROM:-0500
TZOFFSETTO:-0400
TZNAME:EDT
DTSTART:20270314T070000
END:DAYLIGHT
BEGIN:STANDARD
TZOFFSETFROM:-0400
TZOFFSETTO:-0500
TZNAME:EST
DTSTART:20271107T060000
END:STANDARD
END:VTIMEZONE
BEGIN:VEVENT
DTSTART;TZID=America/New_York:20260407T183000
DTEND;TZID=America/New_York:20260407T200000
DTSTAMP:20260421T171642
CREATED:20260330T221445Z
LAST-MODIFIED:20260330T222644Z
UID:2326-1775586600-1775592000@thefactoryartsproject.org
SUMMARY:Auditions! | Picasso at Lapin Agile | Tues\, Apr 7
DESCRIPTION:The Groove/Factory is excited to announce auditions for its upcoming production of Steve Martin’s Picasso at the Lapin Agile! \nSet in the bohemian heart of 1904 Paris\, Steve Martin’s Picasso at the Lapin Agile is a brilliant\, absurdist comedy that imagines a chance encounter between two of the 20th century’s most legendary minds. The play unfolds at the historic Lapin Agile cabaret\, where a 23-year-old Pablo Picasso and a 25-year-old Albert Einstein engage in a high-stakes battle of wits. Both men stand on the precipice of greatness—Picasso is months away from painting the revolutionary Les Demoiselles d’Avignon\, while Einstein is nearing the publication of his Special Theory of Relativity. Through their spirited debate\, Martin explores the idea that the creative spark driving scientific discovery is identical to the one fueling artistic genius. \nThe production is much more than a historical period piece; it is a witty\, self-aware farce that frequently breaks the fourth wall and toys with time itself. As the two geniuses argue over the future of the new century\, they are surrounded by a cast of eccentric barflies and dreamers who provide both comic relief and philosophical grounding. The play reaches its surreal peak with the arrival of a mysterious\, time-traveling “Visitor” from the 1950s\, symbolizing the eventual rise of global pop culture. Ultimately\, Picasso at the Lapin Agile is a hilarious yet profound celebration of the transformative power of the human imagination. \nPerformance Dates\nJuly 10-12 | Avalon Theatre (Easton\, MD) \nAuditions\nTuesday\, April 7 + Wednesday\, April 8\n6:30 pm | Avalon Theatre \nAuditions will consist of cold readings from the script. Actors of all backgrounds are encouraged to attend. \nCharacters Breakdown\nFreddy – The owner and bartender of the Lapin Agile. \nGaston – An abrupt and direct old Frenchman with prostate problems\, who talks plainly and seems to care only about sex and drinking. \nGermaine – A waitress at the Lapin Agile. \nAlbert Einstein – A 25-year-old scientist with big aspirations. \nSuzanne – A beautiful 19-year-old girl who is infatuated with Picasso. \nSagot – Picasso’s art dealer\, who is obsessed with finding and selling great pieces of art for profit. \nPablo Picasso – A talented and charismatic 23-year-old painter. \nCharles Dabernow Schmendiman – A young inventor with huge dreams and little knowledge. \nThe Countess – An extremely intelligent and attractive woman\, with whom Einstein is infatuated. \nA Female Admirer – A young admirer Picasso assumes is a fan of his\, but who turns out to be an admirer of Schmendiman. \nThe Visitor – A polite and talented country-boy time-traveler\, who adds another dimension and point of view to Einstein’s and Picasso’s debate. He is a blue-suede-shoed musician. \n  \nFor more information\, DM @thefactoryartsproject on social media or contact the production team\, hello@thefactoryartsproject.org.
URL:https://thefactoryartsproject.org/event/picasso-auditions-apr7/
LOCATION:Avalon Theatre\, 40 E Dover St\, Easton\, MD\, 21601\, United States
CATEGORIES:Auditions
ATTACH;FMTTYPE=image/jpeg:https://thefactoryartsproject.org/wp-content/uploads/2026/03/PicassoShowPoster.jpg
ORGANIZER;CN="The Factory Arts Project":MAILTO:hello@thefactoryartsproject.org
END:VEVENT
BEGIN:VEVENT
DTSTART;TZID=America/New_York:20260408T183000
DTEND;TZID=America/New_York:20260408T200000
DTSTAMP:20260421T171642
CREATED:20260330T221617Z
LAST-MODIFIED:20260330T222724Z
UID:2329-1775673000-1775678400@thefactoryartsproject.org
SUMMARY:Auditions! | Picasso at Lapin Agile | Wed\, Apr 8
DESCRIPTION:The Groove/Factory is excited to announce auditions for its upcoming production of Steve Martin’s Picasso at the Lapin Agile! \nSet in the bohemian heart of 1904 Paris\, Steve Martin’s Picasso at the Lapin Agile is a brilliant\, absurdist comedy that imagines a chance encounter between two of the 20th century’s most legendary minds. The play unfolds at the historic Lapin Agile cabaret\, where a 23-year-old Pablo Picasso and a 25-year-old Albert Einstein engage in a high-stakes battle of wits. Both men stand on the precipice of greatness—Picasso is months away from painting the revolutionary Les Demoiselles d’Avignon\, while Einstein is nearing the publication of his Special Theory of Relativity. Through their spirited debate\, Martin explores the idea that the creative spark driving scientific discovery is identical to the one fueling artistic genius. \nThe production is much more than a historical period piece; it is a witty\, self-aware farce that frequently breaks the fourth wall and toys with time itself. As the two geniuses argue over the future of the new century\, they are surrounded by a cast of eccentric barflies and dreamers who provide both comic relief and philosophical grounding. The play reaches its surreal peak with the arrival of a mysterious\, time-traveling “Visitor” from the 1950s\, symbolizing the eventual rise of global pop culture. Ultimately\, Picasso at the Lapin Agile is a hilarious yet profound celebration of the transformative power of the human imagination. \nPerformance Dates\nJuly 10-12 | Avalon Theatre (Easton\, MD) \nAuditions\nTuesday\, April 7 + Wednesday\, April 8\n6:30 pm | Avalon Theatre \nAuditions will consist of cold readings from the script. Actors of all backgrounds are encouraged to attend. \nCharacters Breakdown\nFreddy – The owner and bartender of the Lapin Agile. \nGaston – An abrupt and direct old Frenchman with prostate problems\, who talks plainly and seems to care only about sex and drinking. \nGermaine – A waitress at the Lapin Agile. \nAlbert Einstein – A 25-year-old scientist with big aspirations. \nSuzanne – A beautiful 19-year-old girl who is infatuated with Picasso. \nSagot – Picasso’s art dealer\, who is obsessed with finding and selling great pieces of art for profit. \nPablo Picasso – A talented and charismatic 23-year-old painter. \nCharles Dabernow Schmendiman – A young inventor with huge dreams and little knowledge. \nThe Countess – An extremely intelligent and attractive woman\, with whom Einstein is infatuated. \nA Female Admirer – A young admirer Picasso assumes is a fan of his\, but who turns out to be an admirer of Schmendiman. \nThe Visitor – A polite and talented country-boy time-traveler\, who adds another dimension and point of view to Einstein’s and Picasso’s debate. He is a blue-suede-shoed musician. \n  \nFor more information\, DM @thefactoryartsproject on social media or contact the production team\, hello@thefactoryartsproject.org.
URL:https://thefactoryartsproject.org/event/picasso-auditions-apr8/
LOCATION:Avalon Theatre\, 40 E Dover St\, Easton\, MD\, 21601\, United States
CATEGORIES:Auditions
ATTACH;FMTTYPE=image/jpeg:https://thefactoryartsproject.org/wp-content/uploads/2026/03/PicassoShowPoster.jpg
ORGANIZER;CN="The Factory Arts Project":MAILTO:hello@thefactoryartsproject.org
END:VEVENT
BEGIN:VEVENT
DTSTART;TZID=America/New_York:20260416T200000
DTEND;TZID=America/New_York:20260416T220000
DTSTAMP:20260421T171642
CREATED:20260316T181936Z
LAST-MODIFIED:20260316T183013Z
UID:2228-1776369600-1776376800@thefactoryartsproject.org
SUMMARY:53% Of | Thurs\, Apr 16
DESCRIPTION:By Steph Del Rosso\nDirected by E.T. Wilford \nSet against the backdrop of an upper middle class home\, during a national election\, 53% Of explores the complicated intersections of gender\, politics\, friendship\, and identity. As six women confront one another in moments both mundane and volatile\, the play examines how personal relationships are shaped—and strained—by societal expectations and political divides. Sharp\, contemporary\, and intimate\, the piece offers rich emotional terrain for its ensemble.
URL:https://thefactoryartsproject.org/event/53-of-apr16/
LOCATION:The Waterfowl Building\, 40 S Harrison St\, Easton\, 21601\, United States
CATEGORIES:Productions
ATTACH;FMTTYPE=image/png:https://thefactoryartsproject.org/wp-content/uploads/2026/01/53PercentOfThumbnail-800pxW.png
ORGANIZER;CN="The Factory Arts Project":MAILTO:hello@thefactoryartsproject.org
END:VEVENT
BEGIN:VEVENT
DTSTART;TZID=America/New_York:20260417T200000
DTEND;TZID=America/New_York:20260417T220000
DTSTAMP:20260421T171642
CREATED:20260316T182107Z
LAST-MODIFIED:20260316T183002Z
UID:2230-1776456000-1776463200@thefactoryartsproject.org
SUMMARY:53% Of | Fri\, Apr 17
DESCRIPTION:By Steph Del Rosso\nDirected by E.T. Wilford \nSet against the backdrop of an upper middle class home\, during a national election\, 53% Of explores the complicated intersections of gender\, politics\, friendship\, and identity. As six women confront one another in moments both mundane and volatile\, the play examines how personal relationships are shaped—and strained—by societal expectations and political divides. Sharp\, contemporary\, and intimate\, the piece offers rich emotional terrain for its ensemble.
URL:https://thefactoryartsproject.org/event/53-of-apr17/
LOCATION:The Waterfowl Building\, 40 S Harrison St\, Easton\, 21601\, United States
CATEGORIES:Productions
ATTACH;FMTTYPE=image/png:https://thefactoryartsproject.org/wp-content/uploads/2026/01/53PercentOfThumbnail-800pxW.png
ORGANIZER;CN="The Factory Arts Project":MAILTO:hello@thefactoryartsproject.org
END:VEVENT
BEGIN:VEVENT
DTSTART;TZID=America/New_York:20260418T200000
DTEND;TZID=America/New_York:20260418T220000
DTSTAMP:20260421T171642
CREATED:20260316T182222Z
LAST-MODIFIED:20260316T182949Z
UID:2232-1776542400-1776549600@thefactoryartsproject.org
SUMMARY:53% Of | Sat\, Apr 18
DESCRIPTION:By Steph Del Rosso\nDirected by E.T. Wilford \nSet against the backdrop of an upper middle class home\, during a national election\, 53% Of explores the complicated intersections of gender\, politics\, friendship\, and identity. As six women confront one another in moments both mundane and volatile\, the play examines how personal relationships are shaped—and strained—by societal expectations and political divides. Sharp\, contemporary\, and intimate\, the piece offers rich emotional terrain for its ensemble.
URL:https://thefactoryartsproject.org/event/53-of-apr18/
LOCATION:The Waterfowl Building\, 40 S Harrison St\, Easton\, 21601\, United States
CATEGORIES:Productions
ATTACH;FMTTYPE=image/png:https://thefactoryartsproject.org/wp-content/uploads/2026/01/53PercentOfThumbnail-800pxW.png
ORGANIZER;CN="The Factory Arts Project":MAILTO:hello@thefactoryartsproject.org
END:VEVENT
BEGIN:VEVENT
DTSTART;TZID=America/New_York:20260419T150000
DTEND;TZID=America/New_York:20260419T170000
DTSTAMP:20260421T171642
CREATED:20260316T182323Z
LAST-MODIFIED:20260316T182924Z
UID:2234-1776610800-1776618000@thefactoryartsproject.org
SUMMARY:53% Of | Sun\, Apr 19
DESCRIPTION:By Steph Del Rosso\nDirected by E.T. Wilford \nSet against the backdrop of an upper middle class home\, during a national election\, 53% Of explores the complicated intersections of gender\, politics\, friendship\, and identity. As six women confront one another in moments both mundane and volatile\, the play examines how personal relationships are shaped—and strained—by societal expectations and political divides. Sharp\, contemporary\, and intimate\, the piece offers rich emotional terrain for its ensemble.
URL:https://thefactoryartsproject.org/event/53-of-apr19/
LOCATION:The Waterfowl Building\, 40 S Harrison St\, Easton\, 21601\, United States
CATEGORIES:Productions
ATTACH;FMTTYPE=image/png:https://thefactoryartsproject.org/wp-content/uploads/2026/01/53PercentOfThumbnail-800pxW.png
ORGANIZER;CN="The Factory Arts Project":MAILTO:hello@thefactoryartsproject.org
END:VEVENT
END:VCALENDAR