BEGIN:VCALENDAR
VERSION:2.0
PRODID:-//The Factory - ECPv6.15.20//NONSGML v1.0//EN
CALSCALE:GREGORIAN
METHOD:PUBLISH
X-WR-CALNAME:The Factory
X-ORIGINAL-URL:https://thefactoryartsproject.org
X-WR-CALDESC:Events for The Factory
REFRESH-INTERVAL;VALUE=DURATION:PT1H
X-Robots-Tag:noindex
X-PUBLISHED-TTL:PT1H
BEGIN:VTIMEZONE
TZID:America/New_York
BEGIN:DAYLIGHT
TZOFFSETFROM:-0500
TZOFFSETTO:-0400
TZNAME:EDT
DTSTART:20240310T070000
END:DAYLIGHT
BEGIN:STANDARD
TZOFFSETFROM:-0400
TZOFFSETTO:-0500
TZNAME:EST
DTSTART:20241103T060000
END:STANDARD
BEGIN:DAYLIGHT
TZOFFSETFROM:-0500
TZOFFSETTO:-0400
TZNAME:EDT
DTSTART:20250309T070000
END:DAYLIGHT
BEGIN:STANDARD
TZOFFSETFROM:-0400
TZOFFSETTO:-0500
TZNAME:EST
DTSTART:20251102T060000
END:STANDARD
BEGIN:DAYLIGHT
TZOFFSETFROM:-0500
TZOFFSETTO:-0400
TZNAME:EDT
DTSTART:20260308T070000
END:DAYLIGHT
BEGIN:STANDARD
TZOFFSETFROM:-0400
TZOFFSETTO:-0500
TZNAME:EST
DTSTART:20261101T060000
END:STANDARD
END:VTIMEZONE
BEGIN:VEVENT
DTSTART;TZID=America/New_York:20251003T200000
DTEND;TZID=America/New_York:20251003T220000
DTSTAMP:20260423T155844
CREATED:20251002T231240Z
LAST-MODIFIED:20251002T231240Z
UID:1972-1759521600-1759528800@thefactoryartsproject.org
SUMMARY:The Elephant Man
DESCRIPTION:Presented by The Garfield Center for the Arts\, The Elephant Man is directed and costumed by two of The Factory’s greatest creative minds\, E.T. Wilford and Cecile Davis. \nBernard Pomerance’s stage classic follows John Merrick\, a severely deformed man in 1880s London\, whose journey from sideshow curiosity to gentleman challenges ideas of humanity\, dignity\, and compassion. Rarely produced due to the role’s demanding physicality\, this riveting production is a powerful showcase of transformation and resilience.
URL:https://thefactoryartsproject.org/event/elephantman-oct3/
LOCATION:The Garfield Center for the Arts\, 210 High Street\, Chestertown\, MD\, 21620\, United States
CATEGORIES:Productions
ATTACH;FMTTYPE=image/jpeg:https://thefactoryartsproject.org/wp-content/uploads/2025/10/elephantman_11x17-POSTER-scaled.jpg
END:VEVENT
BEGIN:VEVENT
DTSTART;TZID=America/New_York:20251004T200000
DTEND;TZID=America/New_York:20251004T220000
DTSTAMP:20260423T155844
CREATED:20251002T231403Z
LAST-MODIFIED:20251002T233727Z
UID:1977-1759608000-1759615200@thefactoryartsproject.org
SUMMARY:The Elephant Man
DESCRIPTION:Presented by The Garfield Center for the Arts\, The Elephant Man is directed and costumed by two of The Factory’s greatest creative minds\, E.T. Wilford and Cecile Davis. \nBernard Pomerance’s stage classic follows John Merrick\, a severely deformed man in 1880s London\, whose journey from sideshow curiosity to gentleman challenges ideas of humanity\, dignity\, and compassion. Rarely produced due to the role’s demanding physicality\, this riveting production is a powerful showcase of transformation and resilience.
URL:https://thefactoryartsproject.org/event/elephantman-oct4/
LOCATION:The Garfield Center for the Arts\, 210 High Street\, Chestertown\, MD\, 21620\, United States
CATEGORIES:Productions
ATTACH;FMTTYPE=image/jpeg:https://thefactoryartsproject.org/wp-content/uploads/2025/10/elephantman_11x17-POSTER-scaled.jpg
END:VEVENT
BEGIN:VEVENT
DTSTART;TZID=America/New_York:20251005T140000
DTEND;TZID=America/New_York:20251005T160000
DTSTAMP:20260423T155844
CREATED:20251002T233843Z
LAST-MODIFIED:20251002T233843Z
UID:1979-1759672800-1759680000@thefactoryartsproject.org
SUMMARY:The Elephant Man
DESCRIPTION:Presented by The Garfield Center for the Arts\, The Elephant Man is directed and costumed by two of The Factory’s greatest creative minds\, E.T. Wilford and Cecile Davis. \nBernard Pomerance’s stage classic follows John Merrick\, a severely deformed man in 1880s London\, whose journey from sideshow curiosity to gentleman challenges ideas of humanity\, dignity\, and compassion. Rarely produced due to the role’s demanding physicality\, this riveting production is a powerful showcase of transformation and resilience.
URL:https://thefactoryartsproject.org/event/elephantman-oct5/
LOCATION:The Garfield Center for the Arts\, 210 High Street\, Chestertown\, MD\, 21620\, United States
CATEGORIES:Productions
ATTACH;FMTTYPE=image/jpeg:https://thefactoryartsproject.org/wp-content/uploads/2025/10/elephantman_11x17-POSTER-scaled.jpg
END:VEVENT
BEGIN:VEVENT
DTSTART;TZID=America/New_York:20251010T200000
DTEND;TZID=America/New_York:20251010T220000
DTSTAMP:20260423T155844
CREATED:20251002T234012Z
LAST-MODIFIED:20251002T234012Z
UID:1981-1760126400-1760133600@thefactoryartsproject.org
SUMMARY:The Elephant Man
DESCRIPTION:Presented by The Garfield Center for the Arts\, The Elephant Man is directed and costumed by two of The Factory’s greatest creative minds\, E.T. Wilford and Cecile Davis. \nBernard Pomerance’s stage classic follows John Merrick\, a severely deformed man in 1880s London\, whose journey from sideshow curiosity to gentleman challenges ideas of humanity\, dignity\, and compassion. Rarely produced due to the role’s demanding physicality\, this riveting production is a powerful showcase of transformation and resilience.
URL:https://thefactoryartsproject.org/event/elephantman-oct10/
LOCATION:The Garfield Center for the Arts\, 210 High Street\, Chestertown\, MD\, 21620\, United States
CATEGORIES:Productions
ATTACH;FMTTYPE=image/jpeg:https://thefactoryartsproject.org/wp-content/uploads/2025/10/elephantman_11x17-POSTER-scaled.jpg
END:VEVENT
BEGIN:VEVENT
DTSTART;TZID=America/New_York:20251011T200000
DTEND;TZID=America/New_York:20251011T220000
DTSTAMP:20260423T155844
CREATED:20251002T234143Z
LAST-MODIFIED:20251002T234143Z
UID:1983-1760212800-1760220000@thefactoryartsproject.org
SUMMARY:The Elephant Man
DESCRIPTION:Presented by The Garfield Center for the Arts\, The Elephant Man is directed and costumed by two of The Factory’s greatest creative minds\, E.T. Wilford and Cecile Davis. \nBernard Pomerance’s stage classic follows John Merrick\, a severely deformed man in 1880s London\, whose journey from sideshow curiosity to gentleman challenges ideas of humanity\, dignity\, and compassion. Rarely produced due to the role’s demanding physicality\, this riveting production is a powerful showcase of transformation and resilience.
URL:https://thefactoryartsproject.org/event/elephantman-oct11/
LOCATION:The Garfield Center for the Arts\, 210 High Street\, Chestertown\, MD\, 21620\, United States
CATEGORIES:Productions
ATTACH;FMTTYPE=image/jpeg:https://thefactoryartsproject.org/wp-content/uploads/2025/10/elephantman_11x17-POSTER-scaled.jpg
END:VEVENT
BEGIN:VEVENT
DTSTART;TZID=America/New_York:20251012T140000
DTEND;TZID=America/New_York:20251012T160000
DTSTAMP:20260423T155844
CREATED:20251002T234256Z
LAST-MODIFIED:20251002T234256Z
UID:1985-1760277600-1760284800@thefactoryartsproject.org
SUMMARY:The Elephant Man
DESCRIPTION:Presented by The Garfield Center for the Arts\, The Elephant Man is directed and costumed by two of The Factory’s greatest creative minds\, E.T. Wilford and Cecile Davis. \nBernard Pomerance’s stage classic follows John Merrick\, a severely deformed man in 1880s London\, whose journey from sideshow curiosity to gentleman challenges ideas of humanity\, dignity\, and compassion. Rarely produced due to the role’s demanding physicality\, this riveting production is a powerful showcase of transformation and resilience.
URL:https://thefactoryartsproject.org/event/elephantman-oct12/
LOCATION:The Garfield Center for the Arts\, 210 High Street\, Chestertown\, MD\, 21620\, United States
CATEGORIES:Productions
ATTACH;FMTTYPE=image/jpeg:https://thefactoryartsproject.org/wp-content/uploads/2025/10/elephantman_11x17-POSTER-scaled.jpg
END:VEVENT
BEGIN:VEVENT
DTSTART;TZID=America/New_York:20251017T200000
DTEND;TZID=America/New_York:20251017T220000
DTSTAMP:20260423T155844
CREATED:20251002T234436Z
LAST-MODIFIED:20251002T234436Z
UID:1987-1760731200-1760738400@thefactoryartsproject.org
SUMMARY:The Elephant Man
DESCRIPTION:Presented by The Garfield Center for the Arts\, The Elephant Man is directed and costumed by two of The Factory’s greatest creative minds\, E.T. Wilford and Cecile Davis. \nBernard Pomerance’s stage classic follows John Merrick\, a severely deformed man in 1880s London\, whose journey from sideshow curiosity to gentleman challenges ideas of humanity\, dignity\, and compassion. Rarely produced due to the role’s demanding physicality\, this riveting production is a powerful showcase of transformation and resilience.
URL:https://thefactoryartsproject.org/event/elephantman-oct17/
LOCATION:The Garfield Center for the Arts\, 210 High Street\, Chestertown\, MD\, 21620\, United States
CATEGORIES:Productions
ATTACH;FMTTYPE=image/jpeg:https://thefactoryartsproject.org/wp-content/uploads/2025/10/elephantman_11x17-POSTER-scaled.jpg
END:VEVENT
BEGIN:VEVENT
DTSTART;TZID=America/New_York:20251018T200000
DTEND;TZID=America/New_York:20251018T220000
DTSTAMP:20260423T155844
CREATED:20251002T234645Z
LAST-MODIFIED:20251002T234645Z
UID:1989-1760817600-1760824800@thefactoryartsproject.org
SUMMARY:The Elephant Man
DESCRIPTION:Presented by The Garfield Center for the Arts\, The Elephant Man is directed and costumed by two of The Factory’s greatest creative minds\, E.T. Wilford and Cecile Davis. \nBernard Pomerance’s stage classic follows John Merrick\, a severely deformed man in 1880s London\, whose journey from sideshow curiosity to gentleman challenges ideas of humanity\, dignity\, and compassion. Rarely produced due to the role’s demanding physicality\, this riveting production is a powerful showcase of transformation and resilience.
URL:https://thefactoryartsproject.org/event/elephantman-oct18/
LOCATION:The Garfield Center for the Arts\, 210 High Street\, Chestertown\, MD\, 21620\, United States
CATEGORIES:Productions
ATTACH;FMTTYPE=image/jpeg:https://thefactoryartsproject.org/wp-content/uploads/2025/10/elephantman_11x17-POSTER-scaled.jpg
END:VEVENT
BEGIN:VEVENT
DTSTART;TZID=America/New_York:20251019T140000
DTEND;TZID=America/New_York:20251019T160000
DTSTAMP:20260423T155844
CREATED:20251002T234854Z
LAST-MODIFIED:20251002T234854Z
UID:1991-1760882400-1760889600@thefactoryartsproject.org
SUMMARY:The Elephant Man
DESCRIPTION:Presented by The Garfield Center for the Arts\, The Elephant Man is directed and costumed by two of The Factory’s greatest creative minds\, E.T. Wilford and Cecile Davis. \nBernard Pomerance’s stage classic follows John Merrick\, a severely deformed man in 1880s London\, whose journey from sideshow curiosity to gentleman challenges ideas of humanity\, dignity\, and compassion. Rarely produced due to the role’s demanding physicality\, this riveting production is a powerful showcase of transformation and resilience.
URL:https://thefactoryartsproject.org/event/elephantman-oct19/
LOCATION:The Garfield Center for the Arts\, 210 High Street\, Chestertown\, MD\, 21620\, United States
CATEGORIES:Productions
ATTACH;FMTTYPE=image/jpeg:https://thefactoryartsproject.org/wp-content/uploads/2025/10/elephantman_11x17-POSTER-scaled.jpg
END:VEVENT
BEGIN:VEVENT
DTSTART;TZID=America/New_York:20251030T190000
DTEND;TZID=America/New_York:20251030T210000
DTSTAMP:20260423T155844
CREATED:20251002T230011Z
LAST-MODIFIED:20251002T230011Z
UID:1968-1761850800-1761858000@thefactoryartsproject.org
SUMMARY:Dracula: A Feminist Revenge Fantasy
DESCRIPTION:When survival is on the line\, can you tell the monster from the man? \nDirected by Iz Clemens — Kate Hamill’s bold\, gender-bending take on Dracula is part horror\, part dark comedy\, and fully unforgettable. This “feminist revenge fantasy” reinvents the classic vampire tale with sharp wit\, biting humor\, and a fearless exploration of predators\, power\, and toxic masculinity.
URL:https://thefactoryartsproject.org/event/dracula-oct-30/
LOCATION:Avalon Theatre\, 40 E Dover St\, Easton\, MD\, 21601\, United States
CATEGORIES:Productions
ATTACH;FMTTYPE=image/png:https://thefactoryartsproject.org/wp-content/uploads/2025/10/2377312201436954047.png
ORGANIZER;CN="The Factory Arts Project":MAILTO:hello@thefactoryartsproject.org
END:VEVENT
BEGIN:VEVENT
DTSTART;TZID=America/New_York:20251031T190000
DTEND;TZID=America/New_York:20251031T210000
DTSTAMP:20260423T155844
CREATED:20251002T225826Z
LAST-MODIFIED:20251002T225826Z
UID:1965-1761937200-1761944400@thefactoryartsproject.org
SUMMARY:Dracula: A Feminist Revenge Fantasy
DESCRIPTION:When survival is on the line\, can you tell the monster from the man? \nDirected by Iz Clemens — Kate Hamill’s bold\, gender-bending take on Dracula is part horror\, part dark comedy\, and fully unforgettable. This “feminist revenge fantasy” reinvents the classic vampire tale with sharp wit\, biting humor\, and a fearless exploration of predators\, power\, and toxic masculinity.
URL:https://thefactoryartsproject.org/event/dracula-oct-31/
LOCATION:Avalon Theatre\, 40 E Dover St\, Easton\, MD\, 21601\, United States
CATEGORIES:Productions
ATTACH;FMTTYPE=image/png:https://thefactoryartsproject.org/wp-content/uploads/2025/10/2377312201436954047.png
ORGANIZER;CN="The Factory Arts Project":MAILTO:hello@thefactoryartsproject.org
END:VEVENT
END:VCALENDAR